BEGIN:VCALENDAR
VERSION:2.0
PRODID:-//A Night of Wonders - ECPv6.8.2.1//NONSGML v1.0//EN
CALSCALE:GREGORIAN
METHOD:PUBLISH
X-WR-CALNAME:A Night of Wonders
X-ORIGINAL-URL:https://anightofwonders.org
X-WR-CALDESC:Events for A Night of Wonders
REFRESH-INTERVAL;VALUE=DURATION:PT1H
X-Robots-Tag:noindex
X-PUBLISHED-TTL:PT1H
BEGIN:VTIMEZONE
TZID:UTC
BEGIN:STANDARD
TZOFFSETFROM:+0000
TZOFFSETTO:+0000
TZNAME:UTC
DTSTART:20240101T000000
END:STANDARD
END:VTIMEZONE
BEGIN:VEVENT
DTSTART;VALUE=DATE:20241128
DTEND;VALUE=DATE:20241129
DTSTAMP:20260420T160602
CREATED:20241125T160027Z
LAST-MODIFIED:20241125T160052Z
UID:228-1732752000-1732838399@anightofwonders.org
SUMMARY:Music: Chubby McG
DESCRIPTION:
URL:https://anightofwonders.org/event/music-chubby-mcg/
END:VEVENT
END:VCALENDAR