BEGIN:VCALENDAR
VERSION:2.0
PRODID:-//A Night of Wonders - ECPv6.8.2.1//NONSGML v1.0//EN
CALSCALE:GREGORIAN
METHOD:PUBLISH
X-ORIGINAL-URL:https://anightofwonders.org
X-WR-CALDESC:Events for A Night of Wonders
REFRESH-INTERVAL;VALUE=DURATION:PT1H
X-Robots-Tag:noindex
X-PUBLISHED-TTL:PT1H
BEGIN:VTIMEZONE
TZID:UTC
BEGIN:STANDARD
TZOFFSETFROM:+0000
TZOFFSETTO:+0000
TZNAME:UTC
DTSTART:20240101T000000
END:STANDARD
END:VTIMEZONE
BEGIN:VEVENT
DTSTART;TZID=UTC:20241220T180000
DTEND;TZID=UTC:20241220T200000
DTSTAMP:20260420T115628
CREATED:20241127T145717Z
LAST-MODIFIED:20241203T150622Z
UID:290-1734717600-1734724800@anightofwonders.org
SUMMARY:Magic Show
DESCRIPTION:
URL:https://anightofwonders.org/event/magic-show-3/
END:VEVENT
BEGIN:VEVENT
DTSTART;TZID=UTC:20241220T180000
DTEND;TZID=UTC:20241220T200000
DTSTAMP:20260420T115628
CREATED:20241127T145745Z
LAST-MODIFIED:20241203T150556Z
UID:292-1734717600-1734724800@anightofwonders.org
SUMMARY:Bubble Factory
DESCRIPTION:
URL:https://anightofwonders.org/event/bubble-factory-2/
END:VEVENT
BEGIN:VEVENT
DTSTART;TZID=UTC:20241220T180000
DTEND;TZID=UTC:20241220T200000
DTSTAMP:20260420T115628
CREATED:20241127T145807Z
LAST-MODIFIED:20241203T150532Z
UID:294-1734717600-1734724800@anightofwonders.org
SUMMARY:Darren Ronan Music
DESCRIPTION:
URL:https://anightofwonders.org/event/darren-ronan-music/
END:VEVENT
BEGIN:VEVENT
DTSTART;TZID=UTC:20241221T180000
DTEND;TZID=UTC:20241221T200000
DTSTAMP:20260420T115628
CREATED:20241127T145826Z
LAST-MODIFIED:20241203T150505Z
UID:296-1734804000-1734811200@anightofwonders.org
SUMMARY:Bubble Factory
DESCRIPTION:
URL:https://anightofwonders.org/event/bubble-factory-3/
END:VEVENT
BEGIN:VEVENT
DTSTART;TZID=UTC:20241221T180000
DTEND;TZID=UTC:20241221T200000
DTSTAMP:20260420T115628
CREATED:20241127T145846Z
LAST-MODIFIED:20241203T150433Z
UID:298-1734804000-1734811200@anightofwonders.org
SUMMARY:Magic Show
DESCRIPTION:
URL:https://anightofwonders.org/event/magic-show-4/
END:VEVENT
BEGIN:VEVENT
DTSTART;TZID=UTC:20241221T180000
DTEND;TZID=UTC:20241221T200000
DTSTAMP:20260420T115628
CREATED:20241127T145856Z
LAST-MODIFIED:20241203T150402Z
UID:300-1734804000-1734811200@anightofwonders.org
SUMMARY:Showtime USA
DESCRIPTION:
URL:https://anightofwonders.org/event/showtime-usa/
END:VEVENT
BEGIN:VEVENT
DTSTART;TZID=UTC:20241222T180000
DTEND;TZID=UTC:20241222T200000
DTSTAMP:20260420T115628
CREATED:20241127T145920Z
LAST-MODIFIED:20241203T150159Z
UID:302-1734890400-1734897600@anightofwonders.org
SUMMARY:Bubble Factory
DESCRIPTION:
URL:https://anightofwonders.org/event/bubble-factory-4/
END:VEVENT
BEGIN:VEVENT
DTSTART;TZID=UTC:20241222T180000
DTEND;TZID=UTC:20241222T200000
DTSTAMP:20260420T115628
CREATED:20241127T145940Z
LAST-MODIFIED:20241203T150059Z
UID:304-1734890400-1734897600@anightofwonders.org
SUMMARY:Stilt Walker
DESCRIPTION:
URL:https://anightofwonders.org/event/stilt-walker-3/
END:VEVENT
BEGIN:VEVENT
DTSTART;TZID=UTC:20241222T180000
DTEND;TZID=UTC:20241222T200000
DTSTAMP:20260420T115628
CREATED:20241127T145952Z
LAST-MODIFIED:20241203T150038Z
UID:306-1734890400-1734897600@anightofwonders.org
SUMMARY:Stephen Quinn Music
DESCRIPTION:
URL:https://anightofwonders.org/event/stephen-quinn-music/
END:VEVENT
BEGIN:VEVENT
DTSTART;TZID=UTC:20241223T180000
DTEND;TZID=UTC:20241223T200000
DTSTAMP:20260420T115628
CREATED:20241127T150037Z
LAST-MODIFIED:20241203T145822Z
UID:308-1734976800-1734984000@anightofwonders.org
SUMMARY:Darren Ronan Music
DESCRIPTION:
URL:https://anightofwonders.org/event/darren-ronan-music-2/
END:VEVENT
BEGIN:VEVENT
DTSTART;TZID=UTC:20241223T180000
DTEND;TZID=UTC:20241223T200000
DTSTAMP:20260420T115628
CREATED:20241127T150054Z
LAST-MODIFIED:20241203T145750Z
UID:310-1734976800-1734984000@anightofwonders.org
SUMMARY:Magic Show
DESCRIPTION:
URL:https://anightofwonders.org/event/magic-show-5/
END:VEVENT
BEGIN:VEVENT
DTSTART;TZID=UTC:20241223T180000
DTEND;TZID=UTC:20241223T200000
DTSTAMP:20260420T115628
CREATED:20241127T150116Z
LAST-MODIFIED:20241203T145703Z
UID:312-1734976800-1734984000@anightofwonders.org
SUMMARY:Bubble Factory
DESCRIPTION:
URL:https://anightofwonders.org/event/bubble-factory-5/
END:VEVENT
BEGIN:VEVENT
DTSTART;TZID=UTC:20241226T180000
DTEND;TZID=UTC:20241226T200000
DTSTAMP:20260420T115628
CREATED:20241127T151045Z
LAST-MODIFIED:20241203T145638Z
UID:314-1735236000-1735243200@anightofwonders.org
SUMMARY:Vibe RW
DESCRIPTION:
URL:https://anightofwonders.org/event/vibe-rw/
END:VEVENT
BEGIN:VEVENT
DTSTART;TZID=UTC:20241228T180000
DTEND;TZID=UTC:20241228T200000
DTSTAMP:20260420T115628
CREATED:20241127T151106Z
LAST-MODIFIED:20241203T145541Z
UID:316-1735408800-1735416000@anightofwonders.org
SUMMARY:Highway Jones
DESCRIPTION:
URL:https://anightofwonders.org/event/highway-jones/
END:VEVENT
END:VCALENDAR