BEGIN:VCALENDAR
VERSION:2.0
PRODID:-//A Night of Wonders - ECPv6.8.2.1//NONSGML v1.0//EN
CALSCALE:GREGORIAN
METHOD:PUBLISH
X-ORIGINAL-URL:https://anightofwonders.org
X-WR-CALDESC:Events for A Night of Wonders
REFRESH-INTERVAL;VALUE=DURATION:PT1H
X-Robots-Tag:noindex
X-PUBLISHED-TTL:PT1H
BEGIN:VTIMEZONE
TZID:UTC
BEGIN:STANDARD
TZOFFSETFROM:+0000
TZOFFSETTO:+0000
TZNAME:UTC
DTSTART:20240101T000000
END:STANDARD
END:VTIMEZONE
BEGIN:VEVENT
DTSTART;TZID=UTC:20241220T180000
DTEND;TZID=UTC:20241220T200000
DTSTAMP:20260420T102655
CREATED:20241127T145717Z
LAST-MODIFIED:20241203T150622Z
UID:290-1734717600-1734724800@anightofwonders.org
SUMMARY:Magic Show
DESCRIPTION:
URL:https://anightofwonders.org/event/magic-show-3/
END:VEVENT
BEGIN:VEVENT
DTSTART;TZID=UTC:20241220T180000
DTEND;TZID=UTC:20241220T200000
DTSTAMP:20260420T102655
CREATED:20241127T145745Z
LAST-MODIFIED:20241203T150556Z
UID:292-1734717600-1734724800@anightofwonders.org
SUMMARY:Bubble Factory
DESCRIPTION:
URL:https://anightofwonders.org/event/bubble-factory-2/
END:VEVENT
BEGIN:VEVENT
DTSTART;TZID=UTC:20241220T180000
DTEND;TZID=UTC:20241220T200000
DTSTAMP:20260420T102655
CREATED:20241127T145807Z
LAST-MODIFIED:20241203T150532Z
UID:294-1734717600-1734724800@anightofwonders.org
SUMMARY:Darren Ronan Music
DESCRIPTION:
URL:https://anightofwonders.org/event/darren-ronan-music/
END:VEVENT
END:VCALENDAR