BEGIN:VCALENDAR
VERSION:2.0
PRODID:-//A Night of Wonders - ECPv6.8.2.1//NONSGML v1.0//EN
CALSCALE:GREGORIAN
METHOD:PUBLISH
X-WR-CALNAME:A Night of Wonders
X-ORIGINAL-URL:https://anightofwonders.org
X-WR-CALDESC:Events for A Night of Wonders
REFRESH-INTERVAL;VALUE=DURATION:PT1H
X-Robots-Tag:noindex
X-PUBLISHED-TTL:PT1H
BEGIN:VTIMEZONE
TZID:UTC
BEGIN:STANDARD
TZOFFSETFROM:+0000
TZOFFSETTO:+0000
TZNAME:UTC
DTSTART:20240101T000000
END:STANDARD
END:VTIMEZONE
BEGIN:VEVENT
DTSTART;TZID=UTC:20241215T180000
DTEND;TZID=UTC:20241215T200000
DTSTAMP:20260420T102310
CREATED:20241127T145210Z
LAST-MODIFIED:20241203T151126Z
UID:276-1734285600-1734292800@anightofwonders.org
SUMMARY:Victoria Circus
DESCRIPTION:
URL:https://anightofwonders.org/event/victoria-circus-4/
END:VEVENT
BEGIN:VEVENT
DTSTART;TZID=UTC:20241215T180000
DTEND;TZID=UTC:20241215T200000
DTSTAMP:20260420T102310
CREATED:20241127T145235Z
LAST-MODIFIED:20241203T151039Z
UID:278-1734285600-1734292800@anightofwonders.org
SUMMARY:Darrell Rae
DESCRIPTION:
URL:https://anightofwonders.org/event/darrell-rae/
END:VEVENT
END:VCALENDAR