BEGIN:VCALENDAR
VERSION:2.0
PRODID:-//A Night of Wonders - ECPv6.8.2.1//NONSGML v1.0//EN
CALSCALE:GREGORIAN
METHOD:PUBLISH
X-ORIGINAL-URL:https://anightofwonders.org
X-WR-CALDESC:Events for A Night of Wonders
REFRESH-INTERVAL;VALUE=DURATION:PT1H
X-Robots-Tag:noindex
X-PUBLISHED-TTL:PT1H
BEGIN:VTIMEZONE
TZID:UTC
BEGIN:STANDARD
TZOFFSETFROM:+0000
TZOFFSETTO:+0000
TZNAME:UTC
DTSTART:20240101T000000
END:STANDARD
END:VTIMEZONE
BEGIN:VEVENT
DTSTART;TZID=UTC:20241212T180000
DTEND;TZID=UTC:20241212T180000
DTSTAMP:20260420T102731
CREATED:20241127T144940Z
LAST-MODIFIED:20241203T151318Z
UID:266-1734026400-1734026400@anightofwonders.org
SUMMARY:Awilda Quezada
DESCRIPTION:
URL:https://anightofwonders.org/event/awilda-quezada/
END:VEVENT
BEGIN:VEVENT
DTSTART;TZID=UTC:20241212T180000
DTEND;TZID=UTC:20241212T180000
DTSTAMP:20260420T102731
CREATED:20241127T144900Z
LAST-MODIFIED:20241203T151551Z
UID:262-1734026400-1734026400@anightofwonders.org
SUMMARY:Star Wars Characters
DESCRIPTION:
URL:https://anightofwonders.org/event/star-wars-characters/
END:VEVENT
BEGIN:VEVENT
DTSTART;TZID=UTC:20241212T180000
DTEND;TZID=UTC:20241212T180000
DTSTAMP:20260420T102731
CREATED:20241127T144923Z
LAST-MODIFIED:20241203T151542Z
UID:264-1734026400-1734026400@anightofwonders.org
SUMMARY:Victoria Circus
DESCRIPTION:
URL:https://anightofwonders.org/event/victoria-circus/
END:VEVENT
END:VCALENDAR